BEGIN:VCALENDAR
VERSION:2.0
BEGIN:VEVENT
URL:https://suzukiownersclub.co.uk/diary-of-events-2/viewevent/449-south-coast-ride-out-to-arundel 
DTSTART:%2015%07%18GMT%00%Jul%th
DTEND:%2015%07%18GMT%23%Jul%th
SUMMARY:South Coast Ride out to Arundel.
DESCRIPTION:
LOCATION:south coast
END:VEVENT
END:VCALENDAR