BEGIN:VCALENDAR
VERSION:2.0
BEGIN:VEVENT
URL:https://suzukiownersclub.co.uk/diary-of-events-2/viewevent/445-south-coast-ride-out-to-nelsons-diner-for-lunch 
DTSTART:%2015%03%22GMT%10%Mar%nd
DTEND:%2015%03%22GMT%15%Mar%nd
SUMMARY:South Coast ride out to Nelsons Diner for lunch
DESCRIPTION:
LOCATION:Nelsons Diner , Newbury
END:VEVENT
END:VCALENDAR