BEGIN:VCALENDAR
VERSION:2.0
BEGIN:VEVENT
URL:https://suzukiownersclub.co.uk/diary-of-events-2/viewevent/443-nc-on-tour-march-2015-meeting 
DTSTART:%2015%03%15GMT%12%Mar%th
DTEND:%2015%03%15GMT%15%Mar%th
SUMMARY:NC on Tour March 2015 meeting!
DESCRIPTION:Dear All,
The March NC meeting is scheduled for the 15th March 2015 following on from the tafford Centre meet which begins at 12pm.
The venue is:
The Old Smithy 
8-10 Castle Street, 
Eccleshall, 
ST21 6DF. 
Tel:  01785 850564
Tea and coffee will be provided.
Agenda available by emailing: ncsuzukiownersclub@rocketmail.com
Please email ncsuzukiownersclub@rocketmail.com to confirm attendance by Thursday 12th March 2015
We look forward to seeing everyone there
LOCATION:The Old Smithy  8-10 Castle Street,  Eccleshall,  ST21 6DF. 
END:VEVENT
END:VCALENDAR