BEGIN:VCALENDAR
VERSION:2.0
BEGIN:VEVENT
URL:https://suzukiownersclub.co.uk/diary-of-events-2/viewevent/442-agm 
DTSTART:%2015%08%09GMT%11%Aug%th
DTEND:%2015%08%09GMT%14%Aug%th
SUMMARY:AGM
DESCRIPTION:
LOCATION:The Brownlow Arms, High Marnham, Newark. 
END:VEVENT
END:VCALENDAR