BEGIN:VCALENDAR
VERSION:2.0
BEGIN:VEVENT
URL:https://suzukiownersclub.co.uk/diary-of-events-2/viewevent/440-barry-sheene-festival-olivers-mount-scarborough 
DTSTART:%2015%06%20GMT%00%Jun%th
DTEND:%2015%06%21GMT%23%Jun%st
SUMMARY:Barry Sheene Festival. Olivers Mount, Scarborough
DESCRIPTION:
LOCATION:scarborough
END:VEVENT
END:VCALENDAR