BEGIN:VCALENDAR
VERSION:2.0
BEGIN:VEVENT
URL:https://suzukiownersclub.co.uk/diary-of-events-2/viewevent/434-london-centre-ride-out-to-brooklands-motor-museum 
DTSTART:%2015%08%16GMT%10%Aug%th
DTEND:%2015%08%16GMT%17%Aug%th
SUMMARY:London Centre ride out to Brooklands Motor Museum. 
DESCRIPTION:
LOCATION:London Centre
END:VEVENT
END:VCALENDAR