BEGIN:VCALENDAR
VERSION:2.0
BEGIN:VEVENT
URL:https://suzukiownersclub.co.uk/diary-of-events-2/viewevent/433-london-centre-ride-out-to-jack-hill-cafe 
DTSTART:%2015%07%19GMT%10%Jul%th
DTEND:%2015%07%19GMT%16%Jul%th
SUMMARY:London Centre ride out to  Jack Hill Cafe. 
DESCRIPTION:
LOCATION:London Centre
END:VEVENT
END:VCALENDAR