BEGIN:VCALENDAR
VERSION:2.0
BEGIN:VEVENT
URL:https://suzukiownersclub.co.uk/diary-of-events-2/viewevent/432-london-centre-ride-out-to-national-motorcycle-museum-birmingham-now-postponed-due-to-barry-sheen-festival 
DTSTART:%2015%06%21GMT%10%Jun%st
DTEND:%2015%06%21GMT%18%Jun%st
SUMMARY:London Centre ride out to National Motorcycle Museum. Birmingham.                         (now postponed due to Barry Sheen festival)
DESCRIPTION:
LOCATION:London Centre
END:VEVENT
END:VCALENDAR