BEGIN:VCALENDAR
VERSION:2.0
BEGIN:VEVENT
URL:https://suzukiownersclub.co.uk/diary-of-events-2/viewevent/431-london-centre-ride-out-to-ace-cafe 
DTSTART:%2015%05%17GMT%11%May%th
DTEND:%2015%05%17GMT%16%May%th
SUMMARY:London Centre Ride out to Ace Cafe
DESCRIPTION:
LOCATION:London Centre
END:VEVENT
END:VCALENDAR