BEGIN:VCALENDAR
VERSION:2.0
BEGIN:VEVENT
URL:https://suzukiownersclub.co.uk/diary-of-events-2/viewevent/416-london-centre-monthly-meet-the-white-house-ub11-1aa 
DTSTART:%2015%11%08GMT%11%Nov%th
DTEND:%2015%11%08GMT%13%Nov%th
SUMMARY:London Centre Monthly Meet, The White House UB11 1AA
DESCRIPTION:11:30am Everyone is welcome to come and chat, participate, drink lots of tea and coffee and have fun!! 
Where: The monthly London Massive Centre meeting takes place at: 
The White House
The Arena, 
Bennetsfield Rd
Stockley Park
Uxbridge
Middlesex
UB11 1AA

What time: 11:30am 
Who: Everyone is welcome to come and chat, participate, drink lots of tea and coffee and have fun!! 
Contact John Carr - 07768797125
LOCATION:London Centre, Uxbridge. 
END:VEVENT
END:VCALENDAR