BEGIN:VCALENDAR
VERSION:2.0
BEGIN:VEVENT
URL:https://suzukiownersclub.co.uk/diary-of-events-2/viewevent/412-london-centre-monthly-meet-botwell-inn-ub3-3eb 
DTSTART:%2015%07%12GMT%11%Jul%th
DTEND:%2015%07%12GMT%13%Jul%th
SUMMARY:London Centre Monthly Meet, Botwell Inn, UB3 3EB
DESCRIPTION:
LOCATION:London centre, Uxbridge
END:VEVENT
END:VCALENDAR