BEGIN:VCALENDAR
VERSION:2.0
BEGIN:VEVENT
URL:https://suzukiownersclub.co.uk/diary-of-events-2/viewevent/411-london-centre-monthly-meet-botwell-inn-ub3-3eb 
DTSTART:%2015%06%14GMT%11%Jun%th
DTEND:%2015%06%14GMT%13%Jun%th
SUMMARY:London Centre Monthly Meet, Botwell Inn, UB3 3EB
DESCRIPTION:
LOCATION:London Centre, Uxbridge.
END:VEVENT
END:VCALENDAR