BEGIN:VCALENDAR
VERSION:2.0
BEGIN:VEVENT
URL:https://suzukiownersclub.co.uk/diary-of-events-2/viewevent/391-south-coast-centre-monthly-meet-loomies-a272-a32-alton-road-west-meon-gu36-1jx 
DTSTART:%2015%11%01GMT%10%Nov%st
DTEND:%2015%11%01GMT%12%Nov%st
SUMMARY:South Coast Centre Monthly Meet. Loomies A272/A32 Alton Road. West Meon, GU36 1JX
DESCRIPTION:
LOCATION:South Coast 
END:VEVENT
END:VCALENDAR