BEGIN:VCALENDAR
VERSION:2.0
BEGIN:VEVENT
URL:https://suzukiownersclub.co.uk/diary-of-events-2/viewevent/390-south-coast-centre-monthly-meet-lookies-a272-a32-alton-road-west-meon-gu36-1jx 
DTSTART:%2015%10%04GMT%10%Oct%th
DTEND:%2015%10%04GMT%12%Oct%th
SUMMARY:South Coast Centre Monthly Meet. Lookies A272/A32 Alton Road. West Meon GU36 1JX
DESCRIPTION:
LOCATION:South Coast
END:VEVENT
END:VCALENDAR