BEGIN:VCALENDAR
VERSION:2.0
BEGIN:VEVENT
URL:https://suzukiownersclub.co.uk/diary-of-events-2/viewevent/388-south-coast-centre-monthly-meet-agm-loomies-a272-a32-alton-road-west-meon-gu36-1jx 
DTSTART:%2015%08%02GMT%10%Aug%nd
DTEND:%2015%08%02GMT%12%Aug%nd
SUMMARY:South coast Centre Monthly Meet & AGM Loomies A272/A32 Alton Road, West Meon. GU36 1JX
DESCRIPTION:
LOCATION:south coast
END:VEVENT
END:VCALENDAR