BEGIN:VCALENDAR
VERSION:2.0
BEGIN:VEVENT
URL:https://suzukiownersclub.co.uk/diary-of-events-2/viewevent/387-south-coast-centre-monthly-meet-loomies-a272-a32-alton-road-west-meon-gu36-1jx 
DTSTART:%2015%07%05GMT%10%Jul%th
DTEND:%2015%07%05GMT%12%Jul%th
SUMMARY:South Coast Centre Monthly Meet. Loomies. A272/A32 Alton road, West Meon Gu36 1JX
DESCRIPTION:
LOCATION:south coast
END:VEVENT
END:VCALENDAR