BEGIN:VCALENDAR
VERSION:2.0
BEGIN:VEVENT
URL:https://suzukiownersclub.co.uk/diary-of-events-2/viewevent/386-south-coast-camping-weekend-fox-and-goose-at-greywell-rg29-1by-off-exit-5-on-m3 
DTSTART:%2015%06%05GMT%18%Jun%th
DTEND:%2015%06%07GMT%14%Jun%th
SUMMARY:South Coast Camping weekend. Fox and Goose at Greywell, RG29 1BY  off exit 5 on M3
DESCRIPTION:
LOCATION:South Coast
END:VEVENT
END:VCALENDAR