BEGIN:VCALENDAR
VERSION:2.0
BEGIN:VEVENT
URL:https://suzukiownersclub.co.uk/diary-of-events-2/viewevent/385-south-coast-monthly-meet-loomies-a272-a32-alton-road-west-meon-gu32-1jx 
DTSTART:%2015%05%03GMT%10%May%rd
DTEND:%2015%05%03GMT%12%May%rd
SUMMARY:South Coast Monthly Meet. Loomies A272/A32 Alton road, west Meon. GU32 1JX
DESCRIPTION:
LOCATION:South Coast
END:VEVENT
END:VCALENDAR