BEGIN:VCALENDAR
VERSION:2.0
BEGIN:VEVENT
URL:https://suzukiownersclub.co.uk/diary-of-events-2/viewevent/376-stafford-centre-monthly-meet-the-old-smithy-8-10-castle-street-eccleshall-st21-6df-tel-01785-850564 
DTSTART:%2015%05%17GMT%12%May%th
DTEND:%2015%05%17GMT%14%May%th
SUMMARY:Stafford Centre Monthly Meet.  The Old Smithy 8-10 Castle Street Eccleshall ST21 6DF Tel: 01785 850564
DESCRIPTION:come along and meet Gordon and lois. chat about bikes and the club among other things. 
contact Gordon -  socstafford@rocketmail.com
LOCATION:Stafford
END:VEVENT
END:VCALENDAR