BEGIN:VCALENDAR
VERSION:2.0
BEGIN:VEVENT
URL:https://suzukiownersclub.co.uk/diary-of-events-2/viewevent/375-stafford-centre-monthly-meet-the-old-smithy-8-10-castle-street-eccleshall-st21-6df 
DTSTART:%2015%04%19GMT%12%Apr%th
DTEND:%2015%04%19GMT%14%Apr%th
SUMMARY:Stafford Centre monthly Meet. The Old Smithy 8-10 Castle Street, Eccleshall, ST21 6DF.
DESCRIPTION:come along and meet Gordon and lois. chat about bikes and the club among other things. 
contact Gordon -  socstafford@rocketmail.com
LOCATION:stafford
END:VEVENT
END:VCALENDAR