BEGIN:VCALENDAR
VERSION:2.0
BEGIN:VEVENT
URL:https://suzukiownersclub.co.uk/diary-of-events-2/viewevent/373-stafford-centre-monthly-meet-new-venue-the-old-smithy-8-10-castle-street-eccleshall-st21-6df-tel-01785-850564 
DTSTART:%2015%02%15GMT%12%Feb%th
DTEND:%2015%02%15GMT%14%Feb%th
SUMMARY:Stafford Centre Monthly Meet. NEW VENUE The Old Smithy 8-10 Castle Street Eccleshall ST21 6DF Tel: 01785 850564
DESCRIPTION:come along and meet Gordon and lois. chat about bikes and the club among other things. 
contact Gordon AT@suzukiownersclub.co.uk
LOCATION:Stafford 
END:VEVENT
END:VCALENDAR