BEGIN:VCALENDAR
VERSION:2.0
BEGIN:VEVENT
URL:https://suzukiownersclub.co.uk/diary-of-events-2/viewevent/372-staffordshire-centre-monthly-meet-new-venue-the-old-smithy-8-10-castle-street-eccleshall-st21-6df-tel-01785-850564 
DTSTART:%2015%01%18GMT%12%Jan%th
DTEND:%2015%01%18GMT%14%Jan%th
SUMMARY:Staffordshire Centre Monthly Meet. NEW VENUE The Old Smithy 8-10 Castle Street Eccleshall ST21 6DF Tel: 01785 850564
DESCRIPTION:come along and meet Gordon and lois at the Stafford centre monthly meet from midday. Enjoy a chat and find out about more events.
LOCATION:Stafford
END:VEVENT
END:VCALENDAR