BEGIN:VCALENDAR
VERSION:2.0
BEGIN:VEVENT
URL:https://suzukiownersclub.co.uk/diary-of-events-2/viewevent/371-north-east-bike-wise-event 
DTSTART:%2015%07%19GMT%00%Jul%th
DTEND:%2015%07%19GMT%23%Jul%th
SUMMARY:North East Bike Wise Event
DESCRIPTION:
LOCATION:North East
END:VEVENT
END:VCALENDAR