BEGIN:VCALENDAR
VERSION:2.0
BEGIN:VEVENT
URL:https://suzukiownersclub.co.uk/diary-of-events-2/viewevent/370-north-east-camping-weekend-woohoo-heather-lad-quarrington-hill-cassop-durham-dh6-4qd 
DTSTART:%2015%05%22GMT%00%May%nd
DTEND:%2015%05%25GMT%23%May%th
SUMMARY:North East Camping Weekend. WooHoo. Heather Lad, Quarrington Hill, Cassop, Durham. DH6 4QD
DESCRIPTION:
LOCATION:North East
END:VEVENT
END:VCALENDAR