BEGIN:VCALENDAR
VERSION:2.0
BEGIN:VEVENT
URL:https://suzukiownersclub.co.uk/diary-of-events-2/viewevent/369-north-east-centre-monthly-meet-heather-lad-quarrington-hill-cassop-dh6-4qd-moved-1-week-due-to-easter 
DTSTART:%2015%04%12GMT%19%Apr%th
DTEND:%2015%04%12GMT%21%Apr%th
SUMMARY:North East Centre Monthly Meet. Heather Lad. Quarrington Hill. Cassop. DH6 4QD (moved 1 week due to easter)
DESCRIPTION:The monthly meeting of the North East Centre at the Heather Lad, Quarrington Hill Durham. Meeting starts 7-30pm, 
Kevin Close: 07949035419
LOCATION:North East
END:VEVENT
END:VCALENDAR