BEGIN:VCALENDAR
VERSION:2.0
BEGIN:VEVENT
URL:https://suzukiownersclub.co.uk/diary-of-events-2/viewevent/368-north-east-centre-monthly-meet-heather-lad-quarrington-hill-cassop-dh6-4qd 
DTSTART:%2015%12%06GMT%19%Dec%th
DTEND:%2015%12%06GMT%21%Dec%th
SUMMARY:North East Centre Monthly Meet. Heather Lad Quarrington Hill, Cassop. DH6 4QD
DESCRIPTION:
LOCATION:North East
END:VEVENT
END:VCALENDAR