BEGIN:VCALENDAR
VERSION:2.0
BEGIN:VEVENT
URL:https://suzukiownersclub.co.uk/diary-of-events-2/viewevent/366-north-east-centre-monthly-meet-heather-lad-quarringto-hill-cassop-dh6-4qd 
DTSTART:%2015%10%04GMT%19%Oct%th
DTEND:%2015%10%04GMT%21%Oct%th
SUMMARY:North East Centre Monthly Meet. Heather Lad. Quarringto Hill, Cassop, DH6 4QD
DESCRIPTION:
LOCATION:North East
END:VEVENT
END:VCALENDAR