BEGIN:VCALENDAR
VERSION:2.0
BEGIN:VEVENT
URL:https://suzukiownersclub.co.uk/diary-of-events-2/viewevent/363-north-east-center-monthly-meet-heather-lad-quarrington-hill-cassop-dh6-4qd 
DTSTART:%2015%07%05GMT%19%Jul%th
DTEND:%2015%07%05GMT%21%Jul%th
SUMMARY:North East Center Monthly Meet. Heather Lad, Quarrington Hill, Cassop. DH6 4QD
DESCRIPTION:
LOCATION:North East
END:VEVENT
END:VCALENDAR