BEGIN:VCALENDAR
VERSION:2.0
BEGIN:VEVENT
URL:https://suzukiownersclub.co.uk/diary-of-events-2/viewevent/362-north-east-centre-monthly-meet-heather-lad-quarrington-hill-cassop-dh6-4qd 
DTSTART:%2015%06%07GMT%19%Jun%th
DTEND:%2015%06%07GMT%21%Jun%th
SUMMARY:North East Centre Monthly Meet. Heather lad, Quarrington Hill, Cassop DH6 4QD
DESCRIPTION:
LOCATION:North East
END:VEVENT
END:VCALENDAR