BEGIN:VCALENDAR
VERSION:2.0
BEGIN:VEVENT
URL:https://suzukiownersclub.co.uk/diary-of-events-2/viewevent/361-north-east-centre-monthly-meet-heather-lad-quarrington-hill-cassop-dh6-4qd 
DTSTART:%2015%05%03GMT%19%May%rd
DTEND:%2015%05%03GMT%21%May%rd
SUMMARY:North East Centre Monthly Meet. Heather Lad, Quarrington Hill, Cassop, DH6 4QD
DESCRIPTION:
LOCATION:North East
END:VEVENT
END:VCALENDAR