BEGIN:VCALENDAR
VERSION:2.0
BEGIN:VEVENT
URL:https://suzukiownersclub.co.uk/diary-of-events-2/viewevent/360-north-east-centre-monthly-meet-heather-lad-quarington-hill-dh6-4qd 
DTSTART:%2015%03%01GMT%19%Mar%st
DTEND:%2015%03%01GMT%21%Mar%st
SUMMARY:North East Centre Monthly Meet. Heather Lad, Quarington Hill, DH6 4QD
DESCRIPTION:The monthly meeting of the North East Centre at the Heather Lad, Quarrington Hill Durham. Meeting starts 7-30pm, 
Kevin Close: 07949035419
LOCATION:North East  
END:VEVENT
END:VCALENDAR