BEGIN:VCALENDAR
VERSION:2.0
BEGIN:VEVENT
URL:https://suzukiownersclub.co.uk/diary-of-events-2/viewevent/359-north-east-centre-monthly-meet-agm-heather-lad-quarrington-hill-dh6-4qd 
DTSTART:%2015%02%01GMT%19%Feb%st
DTEND:%2015%02%01GMT%21%Feb%st
SUMMARY:North East Centre Monthly Meet & AGM, Heather Lad Quarrington Hill DH6 4QD
DESCRIPTION:The monthly meeting of the North East Centre at the Heather Lad, Quarrington Hill Durham. Meeting starts 7-30pm, 
Kevin Close: 07949035419
LOCATION:Heather Lad, Quarrington Hill DH6 4QD
END:VEVENT
END:VCALENDAR