BEGIN:VCALENDAR
VERSION:2.0
BEGIN:VEVENT
URL:https://suzukiownersclub.co.uk/diary-of-events-2/viewevent/358-south-coast-suzuki-2nd-sunday-super-santa-special-at-loomies 
DTSTART:%2014%12%14GMT%10%Dec%th
DTEND:%2014%12%14GMT%12%Dec%th
SUMMARY:South Coast Suzuki 2nd Sunday Super Santa Special ' at LOOMIES
DESCRIPTION:alan and I spoke to will and paul at loomies . They are happy to welcome us to loomies as a club. we had a quick chat. we will be providing them with our dates for the centre meets for the year 2015.
 seeing we are at alton this1st sunday of November and we are on the toy run the first weekend of December. I thought maybe we could have a
 ' south coast Suzuki 2nd sunday super santa special' at loomies. thought we could maybe don our santa outfits from the toy run one more time and get ourselves to loomies for a special one off 2nd sunday centre meet before Christmas.
 looking forwards to your support
 laura
LOCATION:loomies south coast west meon
END:VEVENT
END:VCALENDAR