BEGIN:VCALENDAR
VERSION:2.0
BEGIN:VEVENT
URL:https://suzukiownersclub.co.uk/diary-of-events-2/viewevent/356-motorcycle-live-at-the-nec-birmingham 
DTSTART:%2014%11%22GMT%10%Nov%nd
DTEND:%2014%11%30GMT%18%Nov%th
SUMMARY:Motorcycle Live at the NEC Birmingham`
DESCRIPTION:See new Bikes, Watch amazing shows, Learn to ride, ride on and off road, meet the stars, Buy parts and apparel, Enjoy the show.
LOCATION:NEC Birmingham
END:VEVENT
END:VCALENDAR