BEGIN:VCALENDAR
VERSION:2.0
BEGIN:VEVENT
URL:https://suzukiownersclub.co.uk/diary-of-events-2/viewevent/353-yorkshire-centre-meet 
DTSTART:%2015%01%14GMT%20%Jan%th
DTEND:%2015%01%14GMT%22%Jan%th
SUMMARY:Yorkshire Centre Meet 
DESCRIPTION:Meet at 20:30. Dave Hebblethwaite socyorkshire@rocketmail.com or davidhebblethwaite@sccuk.f9.co.uk
LOCATION:Yorkshire
END:VEVENT
END:VCALENDAR