BEGIN:VCALENDAR
VERSION:2.0
BEGIN:VEVENT
URL:https://suzukiownersclub.co.uk/diary-of-events-2/viewevent/350-north-east-centre-monthly-meet-heather-lad-cassop-dh6-4qd 
DTSTART:%2015%01%04GMT%19%Jan%th
DTEND:%2015%01%04GMT%22%Jan%th
SUMMARY:North East Centre Monthly Meet, Heather lad, cassop, DH6 4QD
DESCRIPTION:The monthly meeting of the North East Centre at the Heather Lad, Quarrington Hill Durham. Meeting starts 7-30pm, 
Kevin Close: 07949035419
LOCATION:North East
END:VEVENT
END:VCALENDAR