BEGIN:VCALENDAR
VERSION:2.0
BEGIN:VEVENT
URL:https://suzukiownersclub.co.uk/diary-of-events-2/viewevent/346-south-coast-centre-monthly-meet-loomies-a272-a32-alton-road-west-meon-gu32-1jx 
DTSTART:%2015%02%01GMT%10%Feb%st
DTEND:%2015%02%01GMT%12%Feb%st
SUMMARY:South Coast Centre Monthly Meet. Loomies A272/A32 alton Road, West Meon. GU32 1JX
RRULE:FREQ=MONTHLY;UNTIL=%2015%03%01GMT%00%Mar%st
DESCRIPTION:A warm welcome awaits all at Loomies which is located on the A272, A32 crossroads. There is ample parking and a good menu of well cooked fare, available all day. Of course the terrific A272 and A32 running past the front door. We will be sat with a cuppa from 10 till 12 noon. Then take the long way home. 
contact laura - socsouthcoast@rocketmail.com
LOCATION:south coast ,
END:VEVENT
END:VCALENDAR