BEGIN:VCALENDAR
VERSION:2.0
BEGIN:VEVENT
URL:https://suzukiownersclub.co.uk/diary-of-events-2/viewevent/340-staffordshire-centre-meeting-new-date-from-19th 
DTSTART:%2014%10%26GMT%00%Oct%th
DTEND:%2014%10%26GMT%00%Oct%th
SUMMARY:Staffordshire Centre Meeting new date from 19th 
DESCRIPTION:
LOCATION:Stafford
END:VEVENT
END:VCALENDAR