BEGIN:VCALENDAR
VERSION:2.0
BEGIN:VEVENT
URL:https://suzukiownersclub.co.uk/diary-of-events-2/viewevent/331-kent-centre-ride-out-to-loomies 
DTSTART:%2014%10%19GMT%10%Oct%th
DTEND:%2014%10%19GMT%16%Oct%th
SUMMARY:kent Centre Ride Out to Loomies
DESCRIPTION:Kent Centre Ride to Loomies Café. Meet Blue and White around 10am as per normal centre meeting and ride over to Loomies for brunch. More details from sockent@rocketmail.com or call 07092988546
LOCATION:kent - south coast
END:VEVENT
END:VCALENDAR