BEGIN:VCALENDAR
VERSION:2.0
BEGIN:VEVENT
URL:https://suzukiownersclub.co.uk/diary-of-events-2/viewevent/329-south-coast-ride-out-to-basingstoke-living-museum 
DTSTART:%2014%11%15GMT%11%Nov%th
DTEND:%2014%11%15GMT%16%Nov%th
SUMMARY:south coast ride out to basingstoke living museum
DESCRIPTION:follow the link below to see the web site.
http://www3.hants.gov.uk/milestones.htm
LOCATION:basingstoke. south coast.
END:VEVENT
END:VCALENDAR