BEGIN:VCALENDAR
VERSION:2.0
BEGIN:VEVENT
URL:https://suzukiownersclub.co.uk/diary-of-events-2/viewevent/328-france-for-early-may-bank-holiday-2015 
DTSTART:%2015%05%01GMT%00%May%st
DTEND:%2015%05%04GMT%00%May%th
SUMMARY:France for Early May Bank Holiday 2015
DESCRIPTION:staying at Les Ballastieres in St Pol Sur Ternoise 
 website lesballastieres.com 
leave friday afternoon. Ideal trip for first time abroad riders
LOCATION: st pol sur ternoise
END:VEVENT
END:VCALENDAR