BEGIN:VCALENDAR
VERSION:2.0
BEGIN:VEVENT
URL:https://suzukiownersclub.co.uk/diary-of-events-2/viewevent/327-rhine-in-flames 
DTSTART:%2015%07%04GMT%00%Jul%th
DTEND:%2015%07%12GMT%00%Jul%th
SUMMARY:Rhine in Flames 
DESCRIPTION:hotel weinhaus ohm patt in boppard website hotelweinhausplatt.de email jfdurcan@aol.com
 going to be there from the 6 to 11 july 2015. planning 2 nights stop on the way with a possible ww1 trip on the saturday.
 leaving on saturday 11th stopping for a night on the way home. im looking at a boat trip down the rhine stopping in rudesheim for the day.
LOCATION:Rhine, Germany
END:VEVENT
END:VCALENDAR