BEGIN:VCALENDAR
VERSION:2.0
BEGIN:VEVENT
URL:https://suzukiownersclub.co.uk/diary-of-events-2/viewevent/326-stafford-centre-ride-out-to-bikers-world-coleshill-birmingham 
DTSTART:%2014%10%12GMT%10%Oct%th
DTEND:%2014%10%12GMT%16%Oct%th
SUMMARY:Stafford Centre Ride out to Bikers World Coleshill, Birmingham
DESCRIPTION:http://bikersworldshops.co.uk/about/address-birmingham-store
Stafford Centre Ride out to Bikers World Coleshill, BirminghamWest Midlands
B46 1NU
Meeting @ The George Inn, Castle St, Eccleshall, Staffordshire, ST21 6DF. Leaving @ 10 am from car park at rear.
LOCATION:Stafford Centre
END:VEVENT
END:VCALENDAR