BEGIN:VCALENDAR
VERSION:2.0
BEGIN:VEVENT
URL:https://suzukiownersclub.co.uk/diary-of-events-2/viewevent/325-stafford-centre-ride-out-to-severn-valley-railway-station-at-bridgnorth 
DTSTART:%2014%09%14GMT%10%Sep%th
DTEND:%2014%09%14GMT%16%Sep%th
SUMMARY:Stafford Centre Ride Out to Severn Valley Railway station at Bridgnorth
DESCRIPTION:Join Gordon and the Stafford Centre for a ride to the railway. 
http://www.svr.co.uk/
LOCATION:stafford
END:VEVENT
END:VCALENDAR