BEGIN:VCALENDAR
VERSION:2.0
BEGIN:VEVENT
URL:https://suzukiownersclub.co.uk/diary-of-events-2/viewevent/324-stafford-classic-motorcycle-show 
DTSTART:%2014%10%18GMT%09%Oct%th
DTEND:%2014%10%19GMT%17%Oct%th
SUMMARY:Stafford Classic Motorcycle Show
DESCRIPTION:Celebrating the growing popularity of emerging and modern classics from the 1960s, 70s and 80s, the Carole Nash Classic Motorcycle Mechanics Show has grown in popularity year after year and now regularly welcomes more than 30,000 enthusiasts through its doors.
Taking place at the superb Staffordshire County Showground the event features over 900 traders, dealers and auto jumble stands offering a wealth of parts and spares for every project.
There’s a host of excellent club stands, exciting live action, the Bonhams autumn sale, classic off-road machines and special guest stars from iconic eras of motorcycling.
Gates open at 9am until 6pm on Saturday and from 9am until 5pm on Sunday.
LOCATION:Staffordshire County Showground Weston Rd, Stafford, Staffordshire, ST18 0BD 
END:VEVENT
END:VCALENDAR