BEGIN:VCALENDAR
VERSION:2.0
BEGIN:VEVENT
URL:https://suzukiownersclub.co.uk/diary-of-events-2/viewevent/323-french-weekend-away 
DTSTART:%2014%08%15GMT%00%Aug%th
DTEND:%2014%08%17GMT%00%Aug%th
SUMMARY:French Weekend Away
DESCRIPTION:Weekend in France staying at lesballastieres st pol sur terniose. it's about an hour from Calais ferry around £60 return, plenty to see and do, to contact hotel www.lesballastieres.com phone 0033 (0) 321047216. For further details please contact Mark on: 07914758734
LOCATION:France
END:VEVENT
END:VCALENDAR