BEGIN:VCALENDAR
VERSION:2.0
BEGIN:VEVENT
URL:https://suzukiownersclub.co.uk/diary-of-events-2/viewevent/322-belgium-for-easter-2015-city-of-charleroi 
DTSTART:%2015%04%03GMT%00%Apr%rd
DTEND:%2015%04%06GMT%23%Apr%th
SUMMARY:Belgium for Easter 2015 City of Charleroi
DESCRIPTION:This year we are traveling further south to the beautiful city of Charleroi. Staying in the Best Western Leonardo hotel. 1A Boulevard Pierre Mayence 6000 Charleroi. Plenty to do and see we are possibly riding out to Luxembourg on Sunday. Please book early to get the best prices on accomodation and crossings.
Forum link
http://suzukiownersclub.co.uk/index.php/kunena/trips-abroad/1277-easter-in-belgium-2015-city-of-charleroi
LOCATION:Charleroi
END:VEVENT
END:VCALENDAR