BEGIN:VCALENDAR
VERSION:2.0
BEGIN:VEVENT
URL:https://suzukiownersclub.co.uk/diary-of-events-2/viewevent/321-wings-museum-south-coast-ride-out 
DTSTART:%2014%10%19GMT%09%Oct%th
DTEND:%2014%10%19GMT%17%Oct%th
SUMMARY:Wings Museum - South Coast Ride Out
DESCRIPTION:Ride out to Wings Museum http://www.wings museum.co.uk/
Meet at Farlington Services, Shell Garage just infront of the Hilton Hotel PO6 1UN
 9.15 am for a 9.30am leave. Arriving at the museum for 10.30am for those wanting to go direct Unit 1, Bucklands Farm, Brantridge lane nr Balcom west Sussex.
Museum Addmission Prices:
Adults £8, Over 60's £7, Children 5-15 years £4, Family Ticket (2 Adults and up to 3 Children) £22, Children under 5 FREE -  Cash only no cards
LOCATION:Hampshire
END:VEVENT
END:VCALENDAR