BEGIN:VCALENDAR
VERSION:2.0
BEGIN:VEVENT
URL:https://suzukiownersclub.co.uk/diary-of-events-2/viewevent/319-shoreham-airshow 
DTSTART:%2014%08%30GMT%09%Aug%th
DTEND:%2014%08%30GMT%17%Aug%th
SUMMARY:Shoreham Airshow
DESCRIPTION:Ride out Shoreham Airshow... http://www.shorehamairshow.co.uk/ Check out the website for more details.
A great day out, everybody welcome.
Meeting @ 9am '@ Farlington Services, Shell Garage Portsmouth just off A27 Near Hilton Hotel PO6 1UN
For further details please contact Laura: socsouthcoast@rocketmail.com
LOCATION:Sussex
END:VEVENT
END:VCALENDAR