BEGIN:VCALENDAR
VERSION:2.0
BEGIN:VEVENT
URL:https://suzukiownersclub.co.uk/diary-of-events-2/viewevent/318-ride-of-independence-south-coast-centre 
DTSTART:%2014%07%13GMT%09%Jul%th
DTEND:%2014%07%13GMT%17%Jul%th
SUMMARY:Ride of Independence - South Coast Centre
DESCRIPTION:Meet at Loomies, http://www.loomies.co.uk/ at 9am for the Ride of independence. 
Ride out through the beautiful roads of West Meon. Supporting Treloars and the Royal British Legion.

For those wanting to ride up together 9am meet at Loomies cafe for 9.15 leave arrive at Trelours School for 10am. Organised charity ride out. OR 9am onwards at Treloar’s (GU34 4GL) Ride out to start at 11am to finish at 12 Arrival at Anstey Park, Alton for Bbq and band. Friends and family welcome at the event finish point to support. £5 for a rider or £8 including pillion. Bring money to support the bbq. 
Everybody welcome for further details please contact Laura: socsouthcoast@rocketmail.com
LOCATION:Hampshire
END:VEVENT
END:VCALENDAR